BEGIN:VCALENDAR
VERSION:2.0
BEGIN:VEVENT
URL:http://www.signaturewines.com/wine-community/events/viewevent/1-finding-stella-big-dog-vineyards 
DTSTART:20110820T180000
DTEND:20110820T210000
SUMMARY:Finding Stella @ Big Dog Vineyards
DESCRIPTION:Music:
Finding Stella has been thrilling crowds throughout the West Coast  with their energetic sound. . Their music integrates classic rock and pop of the 70s and 80s with a newer, warmer rock style. New renditions of your favorite numbers are delivered  along with the group's original compositions that have become the favorite of thousands of devoted Stella fans in the Bay Area and beyond..
August 20th, 2011 6 pm - 9 pm (gates open at 5pm)
$15.00 per person
Concert Venue: Seating and bistro tables on the patio for direct viewing, and a dance floor on the deck so bring your dancing shoes.  If you want to relax on the lawn, bring a blanket to sit on.  First come, first sit so come early for your prefered choice of seating,
Gorgeous Views, Delicious Wine, and Friendly People!
Views: Big Dog Vineyards sits a top a hill at 1,200 feet overlooking  Silicon Valley with views of the entire Bay Area. Finding Stella will be playing on the back patio next to the vineyard. Wines: The winery will be serving our award winning wines by the glass or bottle.  The much awaited and yet- to-be-released Chardonnay will be available by the glass straight from the barrel.  Plus you can try our unique concoction of freshly made Sangria from select Big Dog Wines. Yum!
We love designated drivers also!  Soft drinks and non-alcoholic beverages will be available, plus water at no charge.
Picnic? Or  MOGO BBQ ! Sustenance The mobile gourmet Mogo BBQ will be serving their culinary cuisine voted the best in the Bay Area, featuring Asian-Fusion-BBQ that satisfies and pairs perfectly with Cabernet.  Wipe that drool! You're also welcome to bring your own picnic to enjoy on the patio or spread out on the grass lawn out front.
Alcoholic and non-alcoholic beverages are available on site, but please no outside drinks.
Friendly People I did mention that...and you're going to be there right?
Bonus:  Carpool and everyone in your car gets their first glass of wine on us!
Complete Details and Registration Here
LOCATION:4545 Felter Road, Milpitas, California
END:VEVENT
END:VCALENDAR