BEGIN:VCALENDAR
VERSION:2.0
BEGIN:VEVENT
URL:http://www.signaturewines.com/wine-community/events/viewevent/100-los-gatos-foodfest 
DTSTART:20120706T170000
DTEND:20120706T210000
SUMMARY:Los Gatos Foodfest
DESCRIPTION:<p>Bring your family, friends or a date to this Friday's Los Gatos Foodfest.  Enjoy live music and 12 wine offerings selected by Signaturewines.com that pair with the Gourmet food trucks.  The event is free, just bring your appetite and wine thirst.</p>
LOCATION:18840 Saratoga-Los Gatos Blvd. Los Gatos, Ca. 95030
END:VEVENT
END:VCALENDAR