BEGIN:VCALENDAR
VERSION:2.0
BEGIN:VEVENT
URL:http://www.signaturewines.com/wine-community/events/viewevent/101-pig-roast-and-pinot-on-the-patio 
DTSTART:20120725T183000
DTEND:20120725T203000
SUMMARY:Pig Roast and Pinot on the Patio
DESCRIPTION:<p style="padding-left: 30px;">Pig Roast and Pinot on the Patio, $50 per person</p>
<p style="padding-left: 30px;">Enjoy a casual evening on the beautiful Steven Kent Patio with the authentic sounds and smells of a delicious Pig Roast!  We will blend the wonderful flavors of Pork, brought to you by S+S GastroGrub and Pinot, brought to you by the La Rochelle Winery, with the Tradewind sounds of Darrell Marks on his Ukelele.  Your evening includes a fabulous meal and one complimentary glass of wine. Additional wine for purchase by the bottle or by the glass. <strong>Reservations required, limited to the first 50 people.  Call 925-243-6442.</strong></p>
<p> </p>
<p style="padding-left: 30px;"><strong><span style="text-decoration: underline;">Menu will include:</span></strong></p>
<p style="padding-left: 30px;">Roasted all natural local whole pig served with *a selection of salsa verde or red pepper mojo Portugese rolls</p>
<p style="padding-left: 30px;">Black Bean & sweet corn burger with sharp cheddar, tomato and lettuce (for our vegetarian/vegan option)</p>
<p style="padding-left: 30px;"> </p>
<p style="padding-left: 30px;">Sides – Pickled watermelon rind w/greens, potato salad or roasted marble potato, grilled corn on the cob with chili lime & cheese</p>
LOCATION:5443 Tesla Road, Livermore Valley, CA 94550
END:VEVENT
END:VCALENDAR