BEGIN:VCALENDAR
VERSION:2.0
BEGIN:VEVENT
URL:http://www.signaturewines.com/wine-community/events/viewevent/103-5th-annual-vintage-tasting 
DTSTART:20120714T000000
DTEND:20120715T235959
SUMMARY:5th Annual Vintage Tasting
DESCRIPTION:<p><span style="text-decoration: underline;">Saturday, July 14 & Sunday, July 15 from 12:00 - 4:30</span> at the winery located at 5385 East Avenue in Livermore to taste our New Vintages. We will have live music, food (available for purchase), vendors, and yes - Vintage Cars.  View some pictures of some of the cars at http://www.cudaridgewines.com/VintageTasting2012.html.</p>
<p style="text-align: center;"><br /><span style="font-family: Verdana,Arial,Helvetica,sans-serif;"><em><strong><a href="http://CudaRidgeWines.com/purchasewine.html">NEW RELEASES:</a></strong></em></span></p>
<blockquote style="margin-right: 0px;" dir="ltr">
<p>2011 Sauvignon Blanc</p>
<p>2011 Semillon</p>
<p>2010 Black Label Cab</p>
<p>2011 Sangiovese (small lot)</p>
<p>2011 Syrah</p>
<p>2010 Petit Verdot</p>
<p> </p>
<p style="text-align: left;">Special Wine Discount: 10% discount on purchase of 3 bottles or more and 15% Case discount. Specials available for Vintage Tasting weekend only.</p>
</blockquote>
<p style="text-align: center;"><span style="font-family: Verdana,Arial,Helvetica,sans-serif;"><em><strong>COST: </strong></em></span></p>
<p style="text-align: center;"><span style="font-family: Verdana,Arial,Helvetica,sans-serif;"><em>$10.00 for non-Club members (keep the Engraved Glass)<br />Complementary for Wine Club members and three (3) guests<br /></em></span><span style="font-family: Verdana,Arial,Helvetica,sans-serif;"><em>(no glass for complementary tastings)</em></span></p>
<p style="text-align: center;"><span style="font-family: Verdana,Arial,Helvetica,sans-serif;"><em><strong>FOOD:</strong></em></span></p>
<p style="text-align: center;"><span style="font-size: small;"><span style="font-size: medium;">Bart's Blazin' Q</span> </span></p>
<table align="center">
<tbody>
<tr>
<td>Pulled pork sliders(2)</td>
<td>$5.00</td>
</tr>
<tr>
<td>Pulled pork sandwich</td>
<td>$7.00</td>
</tr>
<tr>
<td>Tri-tip sandwich</td>
<td>$8.00</td>
</tr>
<tr>
<td>Rib sampler(4 bones)</td>
<td>$7.00</td>
</tr>
<tr>
<td>Meat sampler (2 Ribs, Pulled Pork, Tri-Tip)</td>
<td>$10.00</td>
</tr>
<tr>
<td>Side salad (Potato or Coleslaw)</td>
<td>$2.00</td>
</tr>
</tbody>
</table>
<p style="text-align: center;"> </p>
<p style="text-align: center;"><br /><br /></p>
<p style="text-align: center;"><span style="font-family: Verdana,Arial,Helvetica,sans-serif;"><em><strong>LIVE MUSIC:</strong></em></span></p>
<p style="text-align: left;"><span style="font-family: Times New Roman,Times,serif;">We are pleased to have The Catfish Boys (Full Band) on Saturday and Roger Kardinal on Suanday.</span></p>
<p style="text-align: left;"><span style="font-family: Times New Roman,Times,serif;">http://www.cudaridgewines.com/VintageTasting2012.html<br /></span></p>
LOCATION:5385 East Ave, Unit B Livermore, Ca. 94550
END:VEVENT
END:VCALENDAR