BEGIN:VCALENDAR
VERSION:2.0
BEGIN:VEVENT
URL:http://www.signaturewines.com/wine-community/events/viewevent/104-taste-of-terroir 
DTSTART:20120719T180000
DTEND:20120719T210000
SUMMARY:Taste of Terroir
DESCRIPTION:<p><span style="font-family: book antiqua,palatino; color: #333300; font-size: medium;">Join Livermore Valley Winemakers and Bay Area Chefs for a delectable evening of wine and food pairings showcasing the Valley's bountiful "terroir" (a french word for soil and is pronounced "ter-wah").  Winemaker and chef teams work together prior to the event to create innovative wine and food pairings for guests.  Cast your vote for <em>People's Choice </em>Award.  And, in a blind tasting, our Culinary and Media Judges will present awards for <em>Most Innovative Pairing</em>, <em>Best Classic Pairing </em>and <em>Judges' Best </em>(Awards presented at 8:15pm).  Enjoy live music on the patio and bid on spectacular silent auction lots.  <br /></span></p>
<p><span style="font-family: book antiqua,palatino; color: #333300; font-size: medium;"> </span></p>
<div style="text-align: center;"><span style="font-family: book antiqua,palatino; color: #000000; font-size: medium;">Tickets are $85.  </span></div>
<div style="text-align: center;"><span style="font-family: book antiqua,palatino; color: #000000; font-size: medium;"> </span><span style="font-family: book antiqua,palatino; color: #000000; font-size: medium;">This event sells out every year so get your tickets early.  Must be 21 to attend.  ID Required.</span></div>
<div style="text-align: center;"><span style="font-family: book antiqua,palatino; color: #000000; font-size: medium;"> </span></div>
<div style="text-align: center;"><strong>Please call (925) 447-9463 for tickets</strong></div>
<div style="text-align: center;"><span style="font-family: book antiqua,palatino; color: #000000; font-size: medium;"> </span></div>
<div style="text-align: center;"><span style="font-family: book antiqua,palatino; color: #000000; font-size: medium;"> </span></div>
LOCATION:The Palm Event Center 1184 Vineyard Avenue, Pleasanton, CA, 94566
END:VEVENT
END:VCALENDAR