BEGIN:VCALENDAR
VERSION:2.0
BEGIN:VEVENT
URL:http://www.signaturewines.com/wine-community/events/viewevent/105-31st-annual-harvest-wine-celebration-labor-day-weekend-sunday-monday 
DTSTART:20120902T000000
DTEND:20120903T235959
SUMMARY:31st Annual Harvest Wine Celebration - Labor Day Weekend (Sunday & Monday)
DESCRIPTION:<p><span style="font-family: georgia,palatino; color: #1191ed; font-size: x-large;"><strong><span style="text-decoration: underline;"> </span></strong></span></p>
<p> </p>
<p style="color: #333333; font-family: Tahoma, Helvetica, Arial, sans-serif; font-size: 12px;"><span style="font-family: georgia,palatino; color: #339966; font-size: medium;">PURCHASE A SIGNATUREWINES.COM VIP CARD, RECEIVE TWO COMPLIMENTARY LIVERMORE VALLEY HARVEST CELEBRATION TICKETS!  Sign up for the VIP card at <a href="http://www.signaturewines.com/wine-vip" style="color: #1b57b1; text-decoration: none; font-weight: normal;">www.signaturewines.com/</a></span><span style="font-family: georgia,palatino; color: #339966; font-size: medium;"><a href="http://www.signaturewines.com/wine-vip" style="color: #1b57b1; text-decoration: none; font-weight: normal;">wine-vip</a> with promo code "HarvestFestival" then email members@signaturewines.com with your mailing address.</span></p>
<p> </p>
<p style="color: #333333; font-family: Tahoma, Helvetica, Arial, sans-serif; font-size: 12px;"><span><span style="font-family: georgia,palatino; color: #339966; font-size: medium;"> </span></span></p>
<p> </p>
<p><span style="font-family: georgia,palatino; color: #1191ed; font-size: x-large;"><strong><span style="text-decoration: underline;">Tickets:</span></strong></span></p>
<p><span style="font-family: georgia,palatino; color: #1191ed; font-size: medium;"><strong>        </strong><strong>$55              Advance/ Early bird pricing </strong></span></p>
<p><span style="font-family: georgia,palatino; color: #1191ed; font-size: medium;"><strong>        $49.50         Bulk ticket package </strong><strong>10 Tickets </strong><strong>$495 total a 10% savings! </strong></span></p>
<p><span style="font-family: georgia,palatino; color: #1191ed; font-size: medium;"><strong>        $65              Day of the event (For Sunday and Monday)</strong></span></p>
<p><span style="font-family: georgia,palatino; color: #1191ed; font-size: medium;"><strong>        $10              Designated Driver Ticket </strong></span></p>
<p><span style="font-family: georgia,palatino; color: #1191ed; font-size: medium;"><strong>A wristband/ ticket is required to enter wineries on Sunday and participation in special activities on both days. There is no seperate Monday only ticket!</strong></span></p>
<p><span style="font-family: georgia,palatino; color: #339966; font-size: x-large;"><strong><span style="text-decoration: underline;"> </span></strong></span></p>
<p><span style="font-family: georgia,palatino; color: #339966; font-size: x-large;"><strong><span style="text-decoration: underline;">Ticket Includes:</span></strong></span></p>
<ul style="text-align: left;">
<li><span style="font-family: georgia,palatino; color: #339966; font-size: medium;">Entrance into the participating wineries</span></li>
<li><span style="font-family: georgia,palatino; color: #339966; font-size: medium;">Complimentary wine tasting at over 40 wineries</span></li>
<li><span style="font-family: georgia,palatino; color: #339966; font-size: medium;">Shuttle bus service (Sunday Only)</span></li>
<li><span style="font-family: georgia,palatino; color: #339966; font-size: medium;">Special activities all weekend long!</span></li>
<li><span style="font-family: georgia,palatino; color: #339966; font-size: medium;">Wine discounts</span></li>
<li><span style="font-family: georgia,palatino; color: #339966; font-size: medium;">Commemorative wine glass</span></li>
<li><span style="font-family: georgia,palatino; color: #339966; font-size: medium;">Program</span></li>
<li><span style="font-family: georgia,palatino; color: #339966; font-size: medium;">Parking </span></li>
</ul>
<p><span style="font-family: georgia,palatino; color: #339966; font-size: medium;">For more event info:  <a href="http://www.lvwine.org/event/1607/1315108800_1315195200/30th_Annual_Harvest_Wine_Celebration_Labor_Day_Weekend_Sunday_Monday.html">http://www.lvwine.org/event/1607/1315108800_1315195200/30th_Annual_Harvest_Wine_Celebration_Labor_Day_Weekend_Sunday_Monday.html</a></span></p>
LOCATION:Livermore Valley Wineries , Livermore, CA, 94550
END:VEVENT
END:VCALENDAR