BEGIN:VCALENDAR
VERSION:2.0
BEGIN:VEVENT
URL:http://www.signaturewines.com/wine-community/events/viewevent/108-los-gatos-foodfest 
DTSTART:20120727T170000
DTEND:20120727T210000
SUMMARY:Los Gatos Foodfest
DESCRIPTION:<p>For more details go to: http://www.facebook.com/signaturewines.com</p>
LOCATION:18840 Saratoga-Los Gatos Blvd. Los Gatos, Ca. 95030
END:VEVENT
END:VCALENDAR