BEGIN:VCALENDAR
VERSION:2.0
BEGIN:VEVENT
URL:http://www.signaturewines.com/wine-community/events/viewevent/110-monterey-wine-festival 
DTSTART:20120811T130000
DTEND:20120811T160000
SUMMARY:Monterey Wine Festival !!!
DESCRIPTION: http://montereywines.org/2012/08/red-beans-and-rice-with-your-pinot/
LOCATION:Monterey, CA
END:VEVENT
END:VCALENDAR