BEGIN:VCALENDAR
VERSION:2.0
BEGIN:VEVENT
URL:http://www.signaturewines.com/wine-community/events/viewevent/111-vino-acoustico 
DTSTART:20120817T173000
DTEND:20120817T200000
SUMMARY:Vino Acoustico
DESCRIPTION:<p><span style="font-family: tahoma;">Join us for an evening of live music, wine and snacks. The fun will begin at 5:30 and will go until 8:00 p.m. Unwind at the end of the week with a wine tasting, a glass of wine, light snacks and some great music. The cost is $10 for Members of the Page Mill Winery Underground Wine Club, and $15.00 for non-members.</span></p>
LOCATION:1960 S. Livermore Ave. Livermore, CA. 94550
END:VEVENT
END:VCALENDAR