BEGIN:VCALENDAR
VERSION:2.0
BEGIN:VEVENT
URL:http://www.signaturewines.com/wine-community/events/viewevent/112-food-and-wine-pairing-open-menu-at-porters 
DTSTART:20120823T180000
DTEND:20120823T210000
SUMMARY:Food and wine pairing open menu at Porters
DESCRIPTION:<p>Porter's Restaurant is hosting Music On The Ridge every Thursday in August with live music, sunset patio dining, menu specials, wine pairing all amongst vineyard views.<br />On Thursday, August 23rd, the theme will be Pikes Place featuring Seattle style fresh caught entrees paired with Page Mill wines. The award winning 2011 Sauvignon Blanc, 2011 Angela's Cuvee and the 2009 Petite Sirah have been matched with specially designed entrees and can be purchased as a tasting menu or a la carte.<br />The wine pairing portion of the menu runs from 6-9pm, open seating. For reservations call (925) 456-8215.<br />A representative from Page Mill will be on hand to discuss the wine, food and valley views.<br />We hope to see you there.</p>
LOCATION:4280 Greenville Road Livermore, CA 94550
END:VEVENT
END:VCALENDAR