BEGIN:VCALENDAR
VERSION:2.0
BEGIN:VEVENT
URL:http://www.signaturewines.com/wine-community/events/viewevent/114-page-mill-winery-byob-9-16-fill-your-own-bottle 
DTSTART:20120814T120000
DTEND:20120814T163000
SUMMARY:Page Mill Winery BYOB 9/16 fill your own bottle
DESCRIPTION:<p>It's a perfect way to stimulate the recovery. Come to Page Mill during open tasting room hours for a BYOB event. Bring in your old/clean 750 ml wine bottle and fill it up with our Recovery Red. For $8.99 per bottle we will fill it, cork it, label it (nothing fancy, just making the feds happy) and send you on your way with a delicious table wine. If you don't have empty bottles, we can sell you some of ours. Time: noon to 4:30. No reservation necessary. $5 tasting fee includes tasting the Recovery Red!</p>
LOCATION:1960 S. Livermore Ave. Livermore, CA 94550
END:VEVENT
END:VCALENDAR