BEGIN:VCALENDAR
VERSION:2.0
BEGIN:VEVENT
URL:http://www.signaturewines.com/wine-community/events/viewevent/116-los-gatos-wine-walk 
DTSTART:20120929T133000
DTEND:20120929T173000
SUMMARY:Los Gatos Wine Walk
DESCRIPTION:<p> Join us SATURDAY, September 29, 2012 for the Los Gatos Fall Wine Walk – event hours are 1:30 – 5:30pm<br /><br />Stroll through downtown Los Gatos visiting our merchants & taste wines from over 30 local wineries<br /> <br /> <br />Purchase your tickets now….<br /> <br />$40 advance, on-line purchase <br />$50 on day of event, if available<br /> <br />Must be 21 or older to purchase Los Gatos Fall Wine Walk Tickets.   Identification will be verified on day of event at check in.  <br /><br />Please Note:  On-line registration is currently open, and will close at midnight, Thursday, September 27.   Requests for ticket orders after this date must be made directly, by calling the Los Gatos Chamber office on Friday, September 28. <br /><br />This event will sell out!  It is advised to purchase your tickets in advance to insure availability.</p>
LOCATION:100 N. Santa Cruz Ave. Los Gatos, Ca. 95030
END:VEVENT
END:VCALENDAR