BEGIN:VCALENDAR
VERSION:2.0
BEGIN:VEVENT
URL:http://www.signaturewines.com/wine-community/events/viewevent/118-harvest-wine-tasting 
DTSTART:20120922T120000
DTEND:20120923T170000
SUMMARY:Harvest Wine Tasting
DESCRIPTION:<p class="MsoNormal" style="margin: 0in 0in 0pt;"><span style="font-size: medium;"><span style="color: #000000;"><span style="font-family: Calibri;"><strong style="mso-bidi-font-weight: normal;">Fenestra Winery</strong> will celebrate California Wine Month with a <strong style="mso-bidi-font-weight: normal;">Harvest Wine Tasting</strong> <strong style="mso-bidi-font-weight: normal;">on September 22 and 23, noon - 5:00 pm each day.</strong><span style="mso-spacerun: yes;">  </span>This will be Fenestra’s 36<sup>th</sup> harvest!<span style="mso-spacerun: yes;">  </span>Taste the newest releases and experience Fenestra’s beautiful setting at harvest time.<span style="mso-spacerun: yes;">  <span style="line-height: 115%; font-family: 'Calibri','sans-serif'; font-size: 11pt; mso-ascii-theme-font: minor-latin; mso-fareast-font-family: Calibri; mso-fareast-theme-font: minor-latin; mso-hansi-theme-font: minor-latin; mso-bidi-font-family: 'Times New Roman'; mso-bidi-theme-font: minor-bidi; mso-ansi-language: EN-US; mso-fareast-language: EN-US; mso-bidi-language: AR-SA;">Fenestra will also be pouring tastes of all previous releases.<span style="mso-spacerun: yes;">  </span>All wines will be available for purchase by the bottle and by the glass.<span style="mso-spacerun: yes;">  </span>In addition, there will be a specially selected menu of food items for purchase to pair with these newly released wines:</span></span></span></span></span></p>
<p class="MsoNormal" style="line-height: normal; margin: 0in 0in 0pt;"><span style="font-family: Calibri; color: #000000; font-size: medium;"> </span></p>
<p class="MsoNormal" style="line-height: normal; margin: 0in 0in 0pt;"><span style="font-family: Calibri; color: #000000; font-size: medium;">2011 Verdelho, Lodi </span></p>
<p class="MsoNormal" style="line-height: normal; margin: 0in 0in 0pt;"><span style="font-family: Calibri; color: #000000; font-size: medium;">2011 Chardonnay, Livermore</span></p>
<p class="MsoNormal" style="line-height: normal; margin: 0in 0in 0pt;"><span style="font-family: Calibri; color: #000000; font-size: medium;">2008 Alvarelhao, Lodi</span></p>
<p class="MsoNormal" style="line-height: normal; margin: 0in 0in 0pt;"><span style="font-family: Calibri; color: #000000; font-size: medium;">2009 Grenache, Livermore Valley</span></p>
<p class="MsoNormal" style="margin: 0in 0in 0pt;"><span style="font-family: Calibri; color: #000000; font-size: medium;">2007 Tourvanillo, Lodi</span></p>
<p class="MsoNormal" style="margin: 0in 0in 0pt;"><span style="font-family: Calibri; color: #000000; font-size: medium;"> </span></p>
<p class="MsoNormal" style="margin: 0in 0in 0pt;"><span style="font-size: medium;"><span style="color: #000000;"><span style="font-family: Calibri;">Enjoy the day while listening to the music of <strong style="mso-bidi-font-weight: normal;">Hit ‘N Run Band</strong>, playing each day from 12:30 – 4:30 pm.<span style="mso-spacerun: yes;">  </span></span></span></span></p>
<p class="MsoNormal" style="margin: 0in 0in 0pt;"><span style="font-family: Calibri; color: #000000; font-size: medium;"> </span></p>
<p class="MsoNormal" style="margin: 0in 0in 10pt;"><span style="font-family: Calibri; color: #000000; font-size: medium;">The charge for this Harvest Wine Tasting event is $7.50 for Fanatics and $15.00 for non-Fanatics.</span></p>
LOCATION:Fenestra Winery, 83 Vallecitos Road, Livermore CA
END:VEVENT
END:VCALENDAR