BEGIN:VCALENDAR
VERSION:2.0
BEGIN:VEVENT
URL:http://www.signaturewines.com/wine-community/events/viewevent/121-the-6th-annual-earth-day-food-wine-festival 
DTSTART:20130420T000000
DTEND:20130421T000000
SUMMARY:The 6th annual Earth Day Food & Wine Festival
DESCRIPTION:<p><br />Save the Date!</p>
<p>The 6th annual Earth Day Food & Wine Festival is a weekend celebration at locations throughout the Central Coast. The feature event is held on Saturday afternoon at SIP Certified Pomar Junction Vineyard & Winery with over 200 purveyors of award-winning, sustainably produced food and wine. Growers, vintners, and chefs come together to serve delicious, one of a kind dishes made with locally sourced fruits, vegetables, meats, cheeses, olive oils, and more. Come and enjoy live music, a silent auction, unlimited samples of local cuisine, and meet the farmers who grow great food and wine while nurturing a healthy environment.</p>
<p>For More Information:</p>
<p><br />http://www.earthdayfoodandwine.com/</p>
LOCATION:Central Coast, California
END:VEVENT
END:VCALENDAR