BEGIN:VCALENDAR
VERSION:2.0
BEGIN:VEVENT
URL:http://www.signaturewines.com/wine-community/events/viewevent/122-wags-wine-with-waggin-trails-transport 
DTSTART:20121012T170000
DTEND:20121012T190000
SUMMARY:Wags & Wine with Waggin' Trails Transport
DESCRIPTION:<p>Come join us this month at a Halloween themed Wags & Wine for an evening filled with dogs, wine, and good times.  Enjoy light snacks and boutique wine tastings while mingling with other dog lovers and adoptable dogs on our beautiful San Francisco rooftop.  A live DJ will set the mood and there will be a dog photographer present to snap shots of you and your pup as well as a silent auction.  Costumes are encouraged.<br />Tickets are $40.  Special advanced tickets can be purchased through Wineluv.  All proceeds from tickets and the silent auction will go to benefit Waggin' Trails Transport.</p>
<p>    •    Over 20 boutique wines.<br />    •    Assorted small bites.<br />    •    DJ rocks the rooftop.<br />    •    Get your dog photo taken.<br />    •    Free doggie bags with treats for your pooch and Wag coupons.<br />    •    Meet adoptable dogs.<br />    •    P.L.A.Y. & Wag Hotels Warm Bellies Campaign.<br />    •    Silent auction art & more benefiting Waggin' Trails Transport.</p>
LOCATION:      Wag Hotels      25 14th Street     San Francisco CA, 94103      415-876-0700
END:VEVENT
END:VCALENDAR