BEGIN:VCALENDAR
VERSION:2.0
BEGIN:VEVENT
URL:http://www.signaturewines.com/wine-community/events/viewevent/124-bottle-your-own 
DTSTART:20121103T100000
DTEND:20121103T150000
SUMMARY:Bottle Your Own
DESCRIPTION:<p>Bottle your own red wine! Bring your clean bottles or purchase them at the winery for $1.00, then fill them using our antique filler.</p>
<p> </p>
<p>We cork them, you label them - only $5.00 per bottle!</p>
<p> </p>
<p>This is one of our most popular events and is always a fun time!</p>
<p> </p>
<p> </p>
<div class="nlDate">11.03.12</div>
<p><a class="nlTxt iiSel">Bottle Your Own</a></p>
LOCATION:Emilio Guglielmo Winery 1480 East Main Avenue Morgan Hill, CA 95037
END:VEVENT
END:VCALENDAR