BEGIN:VCALENDAR
VERSION:2.0
BEGIN:VEVENT
URL:http://www.signaturewines.com/wine-community/events/viewevent/126-winemaker-pairing-with-chef-neil-marquis 
DTSTART:20121024T183000
DTEND:20121024T203000
SUMMARY:Winemaker Pairing with Chef Neil Marquis
DESCRIPTION:<p>t’s our annual Mushroom Dinner! Join us for an evening of cuisine created with exotic mushrooms by Chef Neil Marquis paired with wines from the Steven Kent Portfolio.</p>
<p style="padding-left: 30px;">Reservations Required, Limited Seating, $75 per person</p>
<p style="padding-left: 30px;">Call 925-243-6442 to reserve your space</p>
LOCATION:5443 Tesla Road  Livermore Valley, CA 94550
END:VEVENT
END:VCALENDAR