BEGIN:VCALENDAR
VERSION:2.0
BEGIN:VEVENT
URL:http://www.signaturewines.com/wine-community/events/viewevent/128-wine-tasting-and-appreciation-class 
DTSTART:20121025T190000
DTEND:20121025T204500
SUMMARY:Wine Tasting and Appreciation Class
DESCRIPTION:<p><span style="font-family: Arial;"><strong>Wine Tasting Basics</strong></span></p>
<p><span style="font-family: Arial;">Do you want to learn how to taste wine like Sommeliers do? If so, then join us for Wine Tasting Basics. In this class, you will be taught a four-step approach to wine tasting (See, Sniff, Sip, Sense). You will also be given an introduction of how to identify various wines in a blind tasting.</span></p>
<p><span style="font-family: Arial;">Cost: $35 per person, wine club members $28 (includes a flight of wine and course materials)</span></p>
<p><a href="http://ww3.aitsafe.com/cf/add.cfm?userid=5374185&product=Wine%20Tasting%20Basics&price=35.00">Wine Tasting Basics - $35 </a> <a href="http://ww3.aitsafe.com/cf/add.cfm?userid=5374185&product=Wine%20Tasting%20Basics%20-%20Club&price=28.00">Club - $28</a></p>
<p><span style="font-family: Arial;">Instructor:  Ilyse Pender, our Wine Club Coordinator, is a Certified Sommelier and Certified Specialist of Wine. She is a graduate of the Sommelier Program at the Professional Culinary Institute in Campbell and is working on her Diploma from the London-based Wine & Spirit Education Trust. Ilyse’s approachable teaching style guarantees that the classes will be educational <strong>and </strong>fun.</span></p>
<div><big><span style="font-family: Arial;"><span style="font-size: smaller;">Space is limited, so reservations are required. To reserve your spot, please click on your choices above or call 408-867-7116. Please note that there are no refunds or exchanges.</span></span></big></div>
LOCATION:Cooper-Garrod Estate Vineyards 22645 Garrod Road Saratoga, CA 95070
END:VEVENT
END:VCALENDAR