BEGIN:VCALENDAR
VERSION:2.0
BEGIN:VEVENT
URL:http://www.signaturewines.com/wine-community/events/viewevent/129-mcgrail-vineyards-quarterly-wine-club-release-party 
DTSTART:20121117T120000
DTEND:20121117T163000
SUMMARY:McGrail Vineyards Quarterly Wine Club Release Party 
DESCRIPTION:<p>Join the McGrail family for our their last 2012 Music in the Vines!  Grab your friends and family and come taste our new Releases, enjoy live music, and stay for lunch as food is available for purchase. </p>
<p><br /> $10/person</p>
LOCATION:5600 Greenville Road Livermore, CA 94550
END:VEVENT
END:VCALENDAR