BEGIN:VCALENDAR
VERSION:2.0
BEGIN:VEVENT
URL:http://www.signaturewines.com/wine-community/events/viewevent/130-wine-pairing-dinner-at-terra-mia-restaurant-livermore 
DTSTART:20121206T180000
DTEND:20121206T203000
SUMMARY:Wine Pairing Dinner at Terra Mia Restaurant, Livermore
DESCRIPTION:<p style="text-align: center;"><strong>Make your Reservations Now! Pairing Dinner at Terra Mia Restaurant, Livermore</strong></p>
<p> </p>
<p style="margin-top: 0px; margin-bottom: 0px; text-align: center; font-family: Century Gothic,ITC Avant Garde,Arial,Helvetica,sans-serif;" align="center"><strong>Thursday, December 6, 2012, 6 -8.30pm</strong></p>
<p style="margin-top: 0px; margin-bottom: 0px; text-align: center; font-family: Century Gothic,ITC Avant Garde,Arial,Helvetica,sans-serif;" align="center"><span>Reservations Recommended, Please call restaurant</span></p>
<p style="margin-top: 0px; margin-bottom: 0px; text-align: center; font-family: Century Gothic,ITC Avant Garde,Arial,Helvetica,sans-serif;" align="center"><span>$ 100.00 per person (tax and gratuity included)</span></p>
<p style="margin-top: 0px; margin-bottom: 0px; text-align: center; font-family: Century Gothic,ITC Avant Garde,Arial,Helvetica,sans-serif;" align="center"><span>Terra Mia Restaurant - 4040 East Avenue, Livermore, CA 94550</span></p>
<p style="margin-top: 0px; margin-bottom: 0px; text-align: center; font-family: Century Gothic,ITC Avant Garde,Arial,Helvetica,sans-serif;" align="center"><span>Phone <a href="tel:925.456.3333" target="_blank">925.456.3333</a> - <a href="http://r20.rs6.net/tn.jsp?e=001Akm7_xT90lJOFqQU5ceJkpad31gEgH0g9mnth4-b9uP6UBxOfwEJmjXCw99SEtyFKbRcjkzkTcXWhkIxbqaXrltiYBEPsqeEuCw69hBM_UQuIC2edKoHy-keRgkeoKxg" target="_blank" style="color: blue; text-decoration: underline;">www.terramiarestaurant.com</a></span></p>
<p style="margin-top: 0px; margin-bottom: 0px; text-align: center; font-family: Century Gothic,ITC Avant Garde,Arial,Helvetica,sans-serif;" align="center"><span> </span></p>
<p style="margin-top: 0px; margin-bottom: 0px; text-align: center; font-family: Century Gothic,ITC Avant Garde,Arial,Helvetica,sans-serif;" align="center"><strong>Antipasti Sampler</strong></p>
<p style="margin-top: 0px; margin-bottom: 0px; text-align: center; font-family: Century Gothic,ITC Avant Garde,Arial,Helvetica,sans-serif;" align="center"><span>Carpaccio di Pescespada</span></p>
<p style="margin-top: 0px; margin-bottom: 0px; text-align: center; font-family: Century Gothic,ITC Avant Garde,Arial,Helvetica,sans-serif;" align="center"><span>Thinly sliced marinated swordfish served with garlic, mint, lemon and extra virgin olive oil</span></p>
<p style="margin-top: 0px; margin-bottom: 0px; text-align: center; font-family: Century Gothic,ITC Avant Garde,Arial,Helvetica,sans-serif;" align="center"><span> </span></p>
<p style="margin-top: 0px; margin-bottom: 0px; text-align: center; font-family: Century Gothic,ITC Avant Garde,Arial,Helvetica,sans-serif;" align="center"><span>Crocchette di Baccala'</span></p>
<p style="margin-top: 0px; margin-bottom: 0px; text-align: center; font-family: Century Gothic,ITC Avant Garde,Arial,Helvetica,sans-serif;" align="center"><span>Deep fried homemade salt cod croquette served with fresh Calabrese sauce on side</span></p>
<p style="margin-top: 0px; margin-bottom: 0px; text-align: center; font-family: Century Gothic,ITC Avant Garde,Arial,Helvetica,sans-serif;" align="center"><em>La Rochelle 2008 Blanc de Noir Sparkling Wine, McIntyre Vyd, Santa Lucia Highlands</em></p>
<p style="margin-top: 0px; margin-bottom: 0px; text-align: center; font-family: Century Gothic,ITC Avant Garde,Arial,Helvetica,sans-serif;" align="center"><span> </span></p>
<p style="margin-top: 0px; margin-bottom: 0px; text-align: center; font-family: Century Gothic,ITC Avant Garde,Arial,Helvetica,sans-serif;" align="center"><strong>Entrees Sampler</strong></p>
<p style="margin-top: 0px; margin-bottom: 0px; text-align: center; font-family: Century Gothic,ITC Avant Garde,Arial,Helvetica,sans-serif;" align="center"><span>Ravioli Calabresi della Nonna</span></p>
<p style="margin-top: 0px; margin-bottom: 0px; text-align: center; font-family: Century Gothic,ITC Avant Garde,Arial,Helvetica,sans-serif;" align="center"><span>Homemade ravioli stuffed with mixed salamis and ricotta served with garlic and basil in tomato sauce</span></p>
<p style="margin-top: 0px; margin-bottom: 0px; text-align: center; font-family: Century Gothic,ITC Avant Garde,Arial,Helvetica,sans-serif;" align="center"><em><span class="il">Steven</span> <span class="il">Kent</span> Winery 2010 "Vincere" Home Ranch, Livermore Valley</em></p>
<p style="margin-top: 0px; margin-bottom: 0px; text-align: center; font-family: Century Gothic,ITC Avant Garde,Arial,Helvetica,sans-serif;" align="center"><span> </span></p>
<p style="margin-top: 0px; margin-bottom: 0px; text-align: center; font-family: Century Gothic,ITC Avant Garde,Arial,Helvetica,sans-serif;" align="center"><strong>Secondi Piatti Sampler</strong></p>
<p style="margin-top: 0px; margin-bottom: 0px; text-align: center; font-family: Century Gothic,ITC Avant Garde,Arial,Helvetica,sans-serif;" align="center"><span>Sogliola alle Zucchine</span></p>
<p style="margin-top: 0px; margin-bottom: 0px; text-align: center; font-family: Century Gothic,ITC Avant Garde,Arial,Helvetica,sans-serif;" align="center"><span>Wild petrale sole wrapped with sliced zucchine served in fresh chopped tomato sauce with capers, garlic and white wine</span></p>
<p style="margin-top: 0px; margin-bottom: 0px; text-align: center; font-family: Century Gothic,ITC Avant Garde,Arial,Helvetica,sans-serif;" align="center"><span> </span></p>
<p style="margin-top: 0px; margin-bottom: 0px; text-align: center; font-family: Century Gothic,ITC Avant Garde,Arial,Helvetica,sans-serif;" align="center"><span>Agnello al Forno con Funghi e Vino Rosso</span></p>
<p style="margin-top: 0px; margin-bottom: 0px; text-align: center; font-family: Century Gothic,ITC Avant Garde,Arial,Helvetica,sans-serif;" align="center"><span>Roasted leg of lamb served sliced with garlic and mixed wild mushrooms in red wine sauce</span></p>
<p style="margin-top: 0px; margin-bottom: 0px; text-align: center; font-family: Century Gothic,ITC Avant Garde,Arial,Helvetica,sans-serif;" align="center"><em>2010 La Rochelle Chardonnay, Dutton-Morelli Lane Vyd, Russian River Valley</em></p>
<p style="margin-top: 0px; margin-bottom: 0px; text-align: center; font-family: Century Gothic,ITC Avant Garde,Arial,Helvetica,sans-serif;" align="center"><em>La Rochelle 2009 Pinot Noir, Santa Lucia Highlands</em></p>
<p style="margin-top: 0px; margin-bottom: 0px; text-align: center; font-family: Century Gothic,ITC Avant Garde,Arial,Helvetica,sans-serif;" align="center"><span> </span></p>
<p style="margin-top: 0px; margin-bottom: 0px; text-align: center; font-family: Century Gothic,ITC Avant Garde,Arial,Helvetica,sans-serif;" align="center"><strong>Dolce Sampler</strong></p>
<p style="margin-top: 0px; margin-bottom: 0px; text-align: center; font-family: Century Gothic,ITC Avant Garde,Arial,Helvetica,sans-serif;" align="center"><span>Castagnaccio ai Pinoli e Uvetta</span></p>
<p style="margin-top: 0px; margin-bottom: 0px; text-align: center; font-family: Century Gothic,ITC Avant Garde,Arial,Helvetica,sans-serif;" align="center"><span>Homemade chestnut flour cake filled with pinenuts and raisin</span></p>
<p style="margin-top: 0px; margin-bottom: 0px; text-align: center; font-family: Century Gothic,ITC Avant Garde,Arial,Helvetica,sans-serif;" align="center"><span>Coffee - Cappuccino - Espresso</span></p>
<p style="margin-top: 0px; margin-bottom: 0px; text-align: center; font-family: Century Gothic,ITC Avant Garde,Arial,Helvetica,sans-serif;" align="center"><em><span class="il">Steven</span> <span class="il">Kent</span> 2005 Cabernet Port, Livermore Valley</em></p>
<p style="margin-top: 0px; margin-bottom: 0px;"> </p>
<p style="text-align: center; margin-bottom: 0px; margin-top: 0px;" align="center"> </p>
<p style="margin-bottom: 0px; margin-top: 0px;"> </p>
LOCATION:Terra Mia Restaurant - 4040 East Avenue, Livermore, CA 94550
END:VEVENT
END:VCALENDAR