BEGIN:VCALENDAR
VERSION:2.0
BEGIN:VEVENT
URL:http://www.signaturewines.com/wine-community/events/viewevent/131-holiday-wine-tasting 
DTSTART:20121117T120000
DTEND:20121118T170000
SUMMARY:Holiday Wine Tasting
DESCRIPTION:<p class="MsoNormal" style="text-align: center; margin: 0in 0.3in 0pt 0in;" align="center"><span style="font-family: 'Calibri','sans-serif'; font-size: 16pt; mso-bidi-font-size: 12.0pt; mso-bidi-font-family: Helvetica; mso-ascii-theme-font: minor-latin; mso-hansi-theme-font: minor-latin;"><span style="color: #000000;"><span style="mso-spacerun: yes;"> </span><strong style="mso-bidi-font-weight: normal;">Father Nature’s Restaurant of Danville</strong> will be pairing holiday foods with Fenestra’s award-winning wines, including new wines for the holidays. <span style="mso-spacerun: yes;"> </span>Also featuring boutique gift items to get your holiday shopping started, and the release of Fenestra's popular Belgian chocolate truffles filled with Fenestra Port!</span></span></p>
<p class="MsoNormal" style="text-align: center; margin: 0in 0.3in 0pt 0in;" align="center"> </p>
<p class="MsoNormal" style="text-align: center; margin: 0in 0.3in 0pt 0in;" align="center"><span style="font-family: 'Calibri','sans-serif'; font-size: 16pt; mso-bidi-font-size: 12.0pt; mso-bidi-font-family: Helvetica; mso-ascii-theme-font: minor-latin; mso-hansi-theme-font: minor-latin;"><span style="color: #000000;">Event Fee $15/person; $5/Fanatic</span></span></p>
<p class="MsoNormal" style="text-align: center; margin: 0in 0.3in 0pt 0in;" align="center"> </p>
<p class="MsoNormal" style="text-align: center; margin: 0in 0.3in 0pt 0in;" align="center"><span style="font-family: 'Calibri','sans-serif'; font-size: 16pt; mso-bidi-font-size: 12.0pt; mso-bidi-font-family: Helvetica; mso-ascii-theme-font: minor-latin; mso-hansi-theme-font: minor-latin;"><span style="color: #000000;">Coupons, Passports, Discounts not valid during Events.</span></span></p>
<p class="MsoNormal" style="text-align: center; margin: 0in 0.3in 0pt 0in;" align="center"> </p>
<p class="MsoNormal" style="text-align: center; margin: 0in 0.3in 0pt 0in;" align="center"><span style="font-family: 'Calibri','sans-serif'; font-size: 16pt; mso-bidi-font-size: 12.0pt; mso-bidi-font-family: Helvetica; mso-ascii-theme-font: minor-latin; mso-hansi-theme-font: minor-latin;"><span style="color: #000000;"> </span></span></p>
LOCATION:Livermore CA
END:VEVENT
END:VCALENDAR