BEGIN:VCALENDAR
VERSION:2.0
BEGIN:VEVENT
URL:http://www.signaturewines.com/wine-community/events/viewevent/133-byob-12-16-fill-your-own-bottle 
DTSTART:20121216T120000
DTEND:20121230T163000
SUMMARY:BYOB 12/16 fill your own bottle
DESCRIPTION:<h3><strong>BYOB 12/16 fill your own bottle</strong></h3>
<p>16-Dec-2012<br /> (third Sunday of every month) It's a perfect way to stimulate the recovery. Come to Page Mill during open tasting room hours for a BYOB event. Bring in your old/clean 750 ml wine bottle and fill it up with our Recovery Red. For $8.99 per bottle we will fill it, cork it, label it (nothing fancy, just making the feds happy) and send you on your way with a delicious table wine. If you don't have empty bottles, we can sell you some of ours. Time: noon to 4:30. No reservation necessary. $5 tasting fee includes tasting the Recovery Red! <br /> <br /> *tasting fee is not refunded with the purchase of BYOB wine.</p>
LOCATION:1960 S. Livermore Ave. Livermore, CA  94550
END:VEVENT
END:VCALENDAR