BEGIN:VCALENDAR
VERSION:2.0
BEGIN:VEVENT
URL:http://www.signaturewines.com/wine-community/events/viewevent/134-complimentary-wine-tasting 
DTSTART:20121103T120000
DTEND:20121103T170000
SUMMARY:Complimentary Wine tasting
DESCRIPTION:
LOCATION:4545 Felter Road Milpitas, CA  95035
END:VEVENT
END:VCALENDAR