BEGIN:VCALENDAR
VERSION:2.0
BEGIN:VEVENT
URL:http://www.signaturewines.com/wine-community/events/viewevent/142-signaturewines-com-vip-cardholder-exclusive-event 
DTSTART:20121115T170000
DTEND:20121115T190000
SUMMARY:SignatureWines.com VIP Cardholder Exclusive EVENT
DESCRIPTION:<p>For our SignatureWines.com VIP Cardholders and by Special invitation only. Space is limited to the first 60 wine lovers that RSVP. Please RSVP by November 13th.  This event is a private party. The event is in Palo Alto and after you RSVP you will be given the events address. </p>
<div>Wine lovers have made pilgrimages to <strong>Grgich Hills Estate</strong> ever since Miljenko "Mike" Grgich's Chardonnay beat the best of France at the famed 1976 Paris Tasting, allowing Mike to partner with Austin Hills to open their family owned and operated winery in 1977. </div>
<div><br />
<div>
<div>A beloved icon of Napa Valley, Grgich Hills is a beautiful winery that farms 366 acres naturally, without artificial fertilizers, pesticides or herbicides and we uses passion and art to handcraft food-friendly, balanced and elegant wines.</div>
</div>
</div>
<div> </div>
<div>Since this is an invitation-only event and attendance will be limited, we ask that you please make your reservations as early as possible and prior to the end of day on Tuesday November 13th</div>
<p>RSVP by emailing Promotions@signaturewines.com</p>
<p>Our friends from Grgich Hills will be offering two of their flagship, Napa Valley wines and serve them alongside two of their single vineyard offerings that are usually produced only for their wine club members.</p>
<p> </p>
<ul>
<li><strong>2009 Grgich Hills Chardonnay, Napa Valley</strong></li>
<li><strong> 2008 Cabernet Sauvignon, Napa Valley</strong></li>
</ul>
<p> </p>
<div>Hors d'oeuvres will also be provided</div>
<div> </div>
<div>One of the many benefits of becoming a SignatureWines.com VIP Cardholder.  Become a SignatureWines.com VIP today by going to the link below:</div>
<div> </div>
<div>https://www.signaturewines.com/wine-vip</div>
LOCATION:Palo Alto
END:VEVENT
END:VCALENDAR