BEGIN:VCALENDAR
VERSION:2.0
BEGIN:VEVENT
URL:http://www.signaturewines.com/wine-community/events/viewevent/146-big-dog-vineyards-open-for-tasting 
DTSTART:20121202T120000
DTEND:20121202T170000
SUMMARY:Big Dog Vineyards open for tasting!
DESCRIPTION:<p><span style="font-size: 9pt;">New releases including the 2008 Cinq Chevaux Cabernet (Reserve)</span></p>
LOCATION:4545 Felter Road  Milpitas,  CA 95035
END:VEVENT
END:VCALENDAR