BEGIN:VCALENDAR
VERSION:2.0
BEGIN:VEVENT
URL:http://www.signaturewines.com/wine-community/events/viewevent/150-enjoy-holidays-in-the-vineyards-december-1-2-at-las-positas-vineyards 
DTSTART:20121201T120000
DTEND:20121201T160000
SUMMARY:Enjoy Holidays in the Vineyards      (December 1 & 2) at Las Positas  Vineyards! 
DESCRIPTION:<p>Las Positas Vineyards is pleased to announce that we will have the following vendors showcased at the winery over this weekend event!</p>
<p><a href="http://www.thedessertlovers.com/">Dessert Lovers</a> will have their divine Cheesecake Cupcakes.<br /> <br /> <a href="http://www.landruchocolates.com/">Landru Chocolates</a> will have their delicious chocolate truffels, toffees, caramels and pate defruit.</p>
<p><a href="http://www.susantblake.com/deep-bling-3/">Susan Blake Jewelry</a> will be showcasing her beautiful creations. Unique gift ideas!<br /> <br /> Bob Hintz Woodworks will be featuring his charming and great gift giving wine accessories.  <br /> <br /> Wine & Food pairings will take place at 1pm & 3pm both days. </p>
<p><span style="font-size: small;"><span style="font-size: 14px; color: #ff0000;">Holidays in the Vineyards is an annual wine country tradition where wineries showcase their tasting rooms with arts and craft vendors, special wines, festive activities, Santa visits, carolers, and more.</span></span></p>
<p><span style="font-size: small;"><span style="font-size: 14px; color: #ff0000;">Guests are encouraged to bring unwrapped toys or monetary donations to their favorite wineries. All toys and donations will be donated to the Pleasanton-Livermore Fire Association's <span style="font-weight: bold;">Toys for Tots </span>Program after the event, directly benefitting children in need throughout Alameda and Contra Costa Counties. </span></span></p>
LOCATION:Las Positas Vineyards 1828 Wetmore Road, Livermore CA 94550
END:VEVENT
END:VCALENDAR