BEGIN:VCALENDAR
VERSION:2.0
BEGIN:VEVENT
URL:http://www.signaturewines.com/wine-community/events/viewevent/158-barrel-tasting-day-in-the-valley-of-the-hearts-delight 
DTSTART:20130209T113000
DTEND:20130209T163000
SUMMARY:Barrel Tasting Day in "The Valley of the Hearts Delight"
DESCRIPTION:At last! Someone with real expetirse gives us the answer. Thanks!
LOCATION:-251
END:VEVENT
END:VCALENDAR