BEGIN:VCALENDAR
VERSION:2.0
BEGIN:VEVENT
URL:http://www.signaturewines.com/wine-community/events/viewevent/17-comedy-uncorked 
DTSTART:20110924T180000
DTEND:20110924T230000
SUMMARY:Comedy Uncorked !!
DESCRIPTION:<p>Wine, Food, Friends, Laughter.  Sounds like Comedy Uncorked at Retzlaff winery.</p>
<p>Enjoy the comedy of <strong>Michael Slack</strong>, Regarded as one of the sharpest wits in the business,  Michael performs at clubs across<br /> North America, and has featured with some of the biggest names in comedy.  He has  taken top honors in numerous contests <br /> and competitions, and headlines comedy  festivals from Florida to Hawaii. <strong>Tessie Chua</strong>, Comedian Tessie Chua has startled and rocked comedy audiences from NY   to California. She has shared the stage with Robin Williams, Robert  Schimmel,  Brian Copeland and Tom Rhodes. Tessie  stomps onto the stage  flinging jokes left and right, immediately dispelling  stereotypical  myths concerning Asian American Women.  Short, angry and clever, this  San  Francisco favorite is amazing audiences with her highly ascerbic,  yet insanely  sensitive point of view on daily life.   and <strong>Lynn Ruth Miller</strong>, At age 77, Lynn Ruth Miller  is a renaissance woman who wears many hats.  Author, artist, teacher, comedienne, she entertains audiences of all ages with comedy and song. <strong><span class="red-orange">Proceeds benefit Open Heart Kitchen </span></strong>$25 advance / $30 at door  Get your tickets now visit</p>
<p>http://www.comedyuncorked.com/shows.html#september</p>
<table class="show-list" style="height: 14px;" border="0" cellspacing="0" cellpadding="0" width="2">
<tbody>
<tr>
<td valign="top"></td>
<td valign="top"></td>
<td valign="top"></td>
</tr>
</tbody>
</table>
LOCATION:Retzlaff Vineyards 1356 South Livermore Ave, Livermore
END:VEVENT
END:VCALENDAR