BEGIN:VCALENDAR
VERSION:2.0
BEGIN:VEVENT
URL:http://www.signaturewines.com/wine-community/events/viewevent/176-hahn-family-winery-presents-alchemy-of-flavors 
DTSTART:20130223T113000
DTEND:20130223T150000
SUMMARY:Hahn Family Winery presents Alchemy of Flavors 
DESCRIPTION:<p>Alchemy of Flavors<br /> Saturday, February 23rd 2013<br /> Times: 11:30am & 1:30pm</p>
<p> </p>
<p>Featured Wine<br /> 2010 Lucienne- Smith Vineyard- Pinot Noir<br /> Santa Lucia Highlands</p>
<p> </p>
<p>Tapas Pairings</p>
<p> </p>
<p>Skuna Bay Salmon Sashimi Roulade with Avocado<br /> ~<br /> Crisp Asparagus Rollups<br /> ~<br /> Foie Gras Fried Rice</p>
<p> </p>
<p>Menu Design by Estate Chef Brian Overhauser</p>
<p> </p>
<p>Price:<br /> Members - $10<br /> Non-Members - $15<br /> Highland Members receive priority seating.</p>
<p><a href="http://widget.vinovisit.com/winery/showSearchResults/?wineryID=6d9e7aec-188b-4924-9f78-5865cc16d51c&scheduleID=&tableID=98b0f303-188b-4924-9fa2-2cc7f1e4c866&eventType=3755c0e0-f439-96f5-d838-c6734ecdb9fe&eventDate=02/23/2013&ydom=hahnestates.com" target="_blank">Click Here to Make a Reservation</a></p>
LOCATION:37700 Foothill Rd Soledad, CA  93960
END:VEVENT
END:VCALENDAR