BEGIN:VCALENDAR
VERSION:2.0
BEGIN:VEVENT
URL:http://www.signaturewines.com/wine-community/events/viewevent/177-hahn-family-winery-presents-alchemy-of-flavors 
DTSTART:20130316T113000
DTEND:20130316T150000
SUMMARY:Hahn Family Winery presents Alchemy of Flavors
DESCRIPTION:<div class="views-field-title"><span class="date-display-single">Sat, 2013-03-16</span> Alchemy of Flavors</div>
<p>Alchemy of Flavors<br /> March 16th 2013</p>
<p>Featured Wine<br /> 2010 Hahn Winery Chef's Table Pinot Noir</p>
<p>Tapas Pairings</p>
<p>Skuna Bay Salmon<br /> ~<br /> Alsatian Onion & Backers Bacon Tartlets<br /> ~<br /> Wild Boar Ragoût & Polenta Cake</p>
<p>The Chef’s Kitchen and Culinary Center at Hahn Estate<br /> Chef Brian Overhauser<br /> Executive Sous Chef Dyon Foster<br /> Sous Chef Malin Hudson</p>
<p>Members: $10<br /> Non - Members: $15</p>
<p><a href="http://widget.vinovisit.com/winery/?wineryID=6d9e7aec-188b-4924-9f78-5865cc16d51c&scheduleID=eb41bcbd-188b-4924-9fec-b494648d46f1&tableID=98b0f303-188b-4924-9fa2-2cc7f1e4c866&eventType=3755c0e0-f439-96f5-d838-c6734ecdb9fe&eventDate=03/16/2013&ydom=vinovisit.com" target="_blank">Click Here to Make a Reservation</a></p>
LOCATION:37700 Foothill Rd Soledad, CA  93960
END:VEVENT
END:VCALENDAR