BEGIN:VCALENDAR
VERSION:2.0
BEGIN:VEVENT
URL:http://www.signaturewines.com/wine-community/events/viewevent/18-cinnabar-winery-s-harvest-bbq 
DTSTART:20110917T120000
DTEND:20110917T160000
SUMMARY:Cinnabar Winery's Harvest BBQ
DESCRIPTION:<p><span style="font-family: Arial, sans-serif; font-size: 13px; color: #000000; line-height: normal;">
<div>Saturday, September 17, 2011 12 noon - 4pm</div>
<div>Location: Sunny Slope Vineyard Estate, Saratoga, CA (a private estate)</div>
<div>Wine tasting & wood fired oven pizza apps, catered tri-tip BBQ, Live music by emith, Bocce Ball, Vineyard Tour</div>
<div>$50 (includes bbq, wine tasting, and glass of wine)</div>
<div>Advance purchase required <a href="http://www.cinnabarwine.com" target="_blank" style="color: blue; text-decoration: underline; cursor: pointer;">www.cinnabarwine.com</a></div>
</span></p>
LOCATION:Saratoga, California
END:VEVENT
END:VCALENDAR