BEGIN:VCALENDAR
VERSION:2.0
BEGIN:VEVENT
URL:http://www.signaturewines.com/wine-community/events/viewevent/19-california-cafe-of-los-gatos-featuring-poetic-cellars-for-tuesday-tastings 
DTSTART:20110920T170000
DTEND:20110920T190000
SUMMARY:California Cafe of Los Gatos featuring Poetic Cellars for Tuesday Tastings
DESCRIPTION:<p>California Cafe of Los Gatos presents "Tasting room Tuesdays" featuring Poetic Cellars of the Santa Cruz appellation.  Meet and mingle with new friends.  It's only 15.00 per person and includes four tasting paired with seasonal appetizers.  Receive $5.00 off the purchase of any entree that evening.  Bring your "Wine Explorers' Tasting Card" and show it to your server for a special surprise.</p>
<p>Poetic Cellars, one of the newest wineries in the Santa Cruz Mountains,  is set amidst the rolling, oak-studded hills and the solitude of a  country estate. This is the perfect place to relax and enjoy fine wine  in an unhurried, tranquil atmosphere. Winemaker Katy Lovell is dedicated  to creating poetry in the bottle from the finest sources she can farm  and find.</p>
LOCATION:Old Town 50 University Avenue Suite 260 Los Gatos, CA 95030 Phone: 408.354.8118
END:VEVENT
END:VCALENDAR