BEGIN:VCALENDAR
VERSION:2.0
BEGIN:VEVENT
URL:http://www.signaturewines.com/wine-community/events/viewevent/20-tuesday-wine-night-bargetto-winery 
DTSTART:20110913T173000
DTEND:20110913T203000
SUMMARY:Tuesday Wine Night - Bargetto Winery
DESCRIPTION:Please join Team Viva this Tuesday Wine Night, September 13, 2011, as we welcome local favorite, Bargetto Winery.
 
The Bargetto family has been handcrafting their award winning Santa Cruz Mountains estate wines since 1933.
 
We offer the Bargetto wines for purchase -- as always -- by the bottle, by the glass or half glass, or as a taste.
 
A Taste of All or a full bottle of wine is accompanied by a complimentary appetizer.
LOCATION:Viva Los Gatos, CA
END:VEVENT
END:VCALENDAR