BEGIN:VCALENDAR
VERSION:2.0
BEGIN:VEVENT
URL:http://www.signaturewines.com/wine-community/events/viewevent/206-after-hours-wine-garden-at-the-tech-museum-of-innovation 
DTSTART:20131003T190000
DTEND:20131004T000000
SUMMARY:After Hours Wine Garden at The Tech Museum of Innovation
DESCRIPTION:<p><strong style="font-family: Verdana, Geneva, sans-serif; font-size: small; line-height: normal;">After Hours - Enjoy wine tasting on the roof of The Tech!</strong></p>
<p style="font-family: Verdana, Geneva, sans-serif; font-size: small; line-height: normal;">Thursday, October 3, 2013, 7:00PM<br />The Tech Museum of Innovation</p>
<p style="font-family: Verdana, Geneva, sans-serif; font-size: small; line-height: normal;">October 3<br />7:00 p.m. to Midnight <br /><br />After Hours is the monthly themed event where adults only can enjoy science, technology, entertainment and cocktails together with their friends. Each month provides an exclusive and fun setting of music, games, hands-on exhibits with something unique to discover. Enjoy giant games like 4-foot tall Jenga-style blocks, over-sized chess, and giant Four-in-a-Row. So bring your friends for an exciting evening of fun, games and music!</p>
<p style="font-family: Verdana, Geneva, sans-serif; font-size: small; line-height: normal;">For tickets and more information, visit:</p>
<p><a href="http://www.thetech.org/programs/after-hours">http://www.thetech.org/programs/after-hours</a></p>
LOCATION:201 South Market Street, San Jose, CA 95113
END:VEVENT
END:VCALENDAR