BEGIN:VCALENDAR
VERSION:2.0
BEGIN:VEVENT
URL:http://www.signaturewines.com/wine-community/events/viewevent/207-holiday-wreath-making-at-hahn-family-estate 
DTSTART:20131208T110000
DTEND:20131208T153000
SUMMARY:Holiday Wreath Making at Hahn Family Estate
DESCRIPTION:<p><span class="Apple-style-span" style="color: #1b1818; font-family: Arial, Verdana, sans-serif; line-height: 18px; font-size: small;">Hahn Family Estate winery will provide mulled wine and complimentary refreshments. We will also have lunch items available for purchase. No reservations necessary! </span></p>
LOCATION:37700 Foothill Rd Soledad, CA  93960
END:VEVENT
END:VCALENDAR