BEGIN:VCALENDAR
VERSION:2.0
BEGIN:VEVENT
URL:http://www.signaturewines.com/wine-community/events/viewevent/208-jamieson-ranch-vineyards-holiday-open-house 
DTSTART:20131206T160000
DTEND:20131206T200000
SUMMARY:Jamieson Ranch Vineyards - Holiday Open House
DESCRIPTION:<p style="margin-top: 0px; margin-right: 0px; margin-bottom: 10px; margin-left: 0px; line-height: 1.33em; padding: 0px;"><span style="font-size: 12px;"><span style="color: #ff0000;">Come see Santa, enjoy JRV's Sweet Jane Dessert Wine and Chocolate (Cookies and Cocoa for the kids!).  Help us decorate our extra-large Christmas Tree. </span></span></p>
<p style="margin-top: 0px; margin-right: 0px; margin-bottom: 10px; margin-left: 0px; line-height: 1.33em; padding: 0px;"><span style="font-size: 12px;"><span style="color: #ff0000;">A special appearance from JRV's miniature horses Winnie the Pooh and Sweet Jane, as holiday elves. </span></span></p>
<p style="margin-top: 0px; margin-right: 0px; margin-bottom: 10px; margin-left: 0px; line-height: 1.33em; padding: 0px;"><span style="font-size: 12px;"><span style="color: #ff0000;">Holiday wine and gift specials. </span></span></p>
LOCATION:1 Kirkland Ranch Road Napa, Ca. 94558
END:VEVENT
END:VCALENDAR