BEGIN:VCALENDAR
VERSION:2.0
BEGIN:VEVENT
URL:http://www.signaturewines.com/wine-community/events/viewevent/209-jamieson-ranch-vineyards-holiday-fundraising-dinner-benefitting-community-action-of-napa-valley-canv 
DTSTART:20131214T180000
DTEND:20131214T230000
SUMMARY:Jamieson Ranch Vineyards Holiday Fundraising Dinner Benefitting Community Action of Napa Valley (CANV)
DESCRIPTION:<p style="margin-top: 0px; margin-right: 0px; margin-bottom: 10px; margin-left: 0px; line-height: 1.33em; text-align: center; padding: 0px;">Jamieson Ranch Vineyards requests the pleasure of your presence</p>
<p style="margin-top: 0px; margin-right: 0px; margin-bottom: 10px; margin-left: 0px; line-height: 1.33em; text-align: center; padding: 0px;">for a holiday fundraising dinner benefitting</p>
<p style="margin-top: 0px; margin-right: 0px; margin-bottom: 10px; margin-left: 0px; line-height: 1.33em; text-align: center; padding: 0px;">Community Action of Napa Valley (CANV)</p>
<p style="margin-top: 0px; margin-right: 0px; margin-bottom: 10px; margin-left: 0px; line-height: 1.33em; text-align: center; padding: 0px;"><strong>December 14, 2013</strong></p>
<p style="margin-top: 0px; margin-right: 0px; margin-bottom: 10px; margin-left: 0px; line-height: 1.33em; text-align: center; padding: 0px;"><strong>6:00 p.m</strong></p>
<p style="margin-top: 0px; margin-right: 0px; margin-bottom: 10px; margin-left: 0px; line-height: 1.33em; text-align: center; padding: 0px;">Estate Chef Brian Overhauser will prepare an exquisite multi-course menu paired with small production wines from our portfolio.</p>
<p style="margin-top: 0px; margin-right: 0px; margin-bottom: 10px; margin-left: 0px; line-height: 1.33em; text-align: center; padding: 0px;"> </p>
<p style="margin-top: 0px; margin-right: 0px; margin-bottom: 10px; margin-left: 0px; line-height: 1.33em; text-align: center; padding: 0px;">$250 per person, a portion of which is tax deductible<em>. Seating is extremely limited</em>. To r.s.v.p. or for more information call 707-254-8673 x130.</p>
<p style="margin-top: 0px; margin-right: 0px; margin-bottom: 10px; margin-left: 0px; line-height: 1.33em; text-align: center; padding: 0px;"><strong>100% of the proceeds will benefit this organization that provides critical support to Meals-on-Wheels, homeless shelters in Napa Valley and The Food Bank.</strong></p>
<p style="margin-top: 0px; margin-right: 0px; margin-bottom: 10px; margin-left: 0px; line-height: 1.33em; text-align: center; padding: 0px;"> </p>
<p style="margin-top: 0px; margin-right: 0px; margin-bottom: 10px; margin-left: 0px; line-height: 1.33em; text-align: center; padding: 0px;"> </p>
<p style="margin-top: 0px; margin-right: 0px; margin-bottom: 10px; margin-left: 0px; line-height: 1.33em; text-align: center; padding: 0px;">To purchase tickets, please call 707.254.8673 Ext. 130.</p>
<p style="margin-top: 0px; margin-right: 0px; margin-bottom: 10px; margin-left: 0px; line-height: 1.33em; text-align: center; padding: 0px;">I’m unable to attend but would like to donate, <a href="https://app.etapestry.com/onlineforms/CommunityActionofNapaValle/donate.html" target="_blank" style="color: #000000;">click here.</a></p>
LOCATION:1 Kirkland Ranch Road Napa, Ca. 94558
END:VEVENT
END:VCALENDAR