BEGIN:VCALENDAR
VERSION:2.0
BEGIN:VEVENT
URL:http://www.signaturewines.com/wine-community/events/viewevent/211-big-dog-vineyards-tasting-room-open 
DTSTART:20131208T120000
DTEND:20131208T170000
SUMMARY:Big Dog Vineyards Tasting Room open
DESCRIPTION:<p>Big Dog Vineyards' tasting room is open today!</p>
LOCATION:4545 Felter Road Milpitas, CA  95035 
END:VEVENT
END:VCALENDAR