BEGIN:VCALENDAR
VERSION:2.0
BEGIN:VEVENT
URL:http://www.signaturewines.com/wine-community/events/viewevent/212-music-at-the-vineyards-vivian-simon-flute-pablo-riviere-guitar-vocals 
DTSTART:20131124T130000
DTEND:20131124T160000
SUMMARY:Music at the Vineyards - Vivian Simon (flute) & Pablo Riviere (guitar/vocals)
DESCRIPTION:<p><span class="Apple-style-span" style="font-family: 'Times New Roman', Times, serif; font-size: 16px; color: #000000; line-height: normal;">November 24, <strong>Music at the Vineyards - Vivian Simon (flute) & Pablo Riviere (guitar/vocals), 1:00 - 4:00 p.m., </strong>What a great way to spend your Sunday afternoon... sipping wine in the fresh air under beautiful, old trees, listening to music like it's a <a href="http://www.cgv.com/dyn/music" style="color: #030873;">private little concert</a> just for a select group - which is exactly what this IS! Bring some cheese and crackers, or a picnic. </span></p>
LOCATION:22645 Garrod Road, Saratoga, CA 95070
END:VEVENT
END:VCALENDAR