BEGIN:VCALENDAR
VERSION:2.0
BEGIN:VEVENT
URL:http://www.signaturewines.com/wine-community/events/viewevent/214-ladies-night-at-domenico-winery 
DTSTART:20131203T180000
DTEND:20131203T210000
SUMMARY:Ladies Night at Domenico Winery
DESCRIPTION:<p><span class="Apple-style-span" style="color: #666666; font-family: Arial, Helvetica, Geneva, sans-serif; line-height: 21px;"><strong><em>A Holiday Shopping Extravaganza!</em></strong><span>  Shop til you drop while sipping on wine. </span><strong><em>Some NEW vendors this year. </em></strong><span>Find beautiful, handcrafted, unique gifts, clothing, jewelry and more for yourself, your family and friends.  </span><em>This has traditionally been called "Ladies' Night"....but there always seems to be a few men that show up????</em><span>  Men are welcome to come and crash the party...provided they shop for their lady!!!!! </span><br /><strong>ADMISSION FREE - COMPLIMENTARY HORS D'OEUVRES - NO HOST BAR</strong></span></p>
LOCATION:1697 Industrial Road, San Carlos, California 94070
END:VEVENT
END:VCALENDAR