BEGIN:VCALENDAR
VERSION:2.0
BEGIN:VEVENT
URL:http://www.signaturewines.com/wine-community/events/viewevent/215-fenestra-s-winery-holiday-wine-tasting 
DTSTART:20131123T120000
DTEND:20131123T170000
SUMMARY:Fenestra's Winery Holiday Wine Tasting
DESCRIPTION:<p style="margin: 0.0px 0.0px 0.0px 0.0px; text-align: center; font: 18.0px 'Times New Roman';">The foods of the holidays, especially Thanksgiving, are highlighted at this festive tasting.  This is a great opportunity to pair classic holiday dishes with your favorite award-winning Fenestra wines!</p>
<p style="margin: 0.0px 0.0px 0.0px 0.0px; font: 12.0px 'Times New Roman'; min-height: 15.0px;"> </p>
<ul style="list-style-type: disc;">
<li style="margin: 0.0px 0.0px 0.0px 0.0px; font: 20.0px 'Times New Roman';"><span style="font: 20.0px Symbol;">•</span>Catered food by Matthew Box of Blue Sage Catering.  </li>
</ul>
<p style="margin: 0.0px 0.0px 0.0px 0.0px; font: 20.0px 'Times New Roman'; min-height: 23.0px;"> </p>
<ul style="list-style-type: disc;">
<li style="margin: 0.0px 0.0px 0.0px 0.0px; font: 20.0px 'Times New Roman';"><span style="font: 20.0px Symbol;">•</span>Belgian chocolate truffles filled with Fenestra Port!</li>
</ul>
<p style="margin: 0.0px 0.0px 0.0px 0.0px; font: 20.0px 'Times New Roman'; min-height: 23.0px;"> </p>
<p style="margin: 0.0px 0.0px 0.0px 0.0px; font: 20.0px 'Times New Roman';">Holiday Craft Vendors:</p>
<ul style="list-style-type: disc;">
<li style="margin: 0.0px 0.0px 0.0px 0.0px; font: 20.0px 'Times New Roman';"><span style="font: 20.0px Symbol;">•</span>Woodworking by John & MaryLou Hodgson</li>
<li style="margin: 0.0px 0.0px 0.0px 0.0px; font: 20.0px 'Times New Roman';"><span style="font: 20.0px Symbol;">•</span>Watercolor paintings by Mike Robles</li>
<li style="margin: 0.0px 0.0px 0.0px 0.0px; font: 20.0px 'Times New Roman';"><span style="font: 20.0px Symbol;">•</span>African art from Susan Huebner</li>
<li style="margin: 0.0px 0.0px 0.0px 0.0px; font: 20.0px 'Times New Roman';"><span style="font: 20.0px Symbol;">•</span>Assorted chocolates by Truffle Gateau</li>
</ul>
<p style="margin: 0.0px 0.0px 0.0px 0.0px; font: 12.0px 'Times New Roman'; min-height: 15.0px;"> </p>
<p style="margin: 0.0px 0.0px 0.0px 0.0px; text-align: center; font: 16.0px 'Times New Roman';"><strong>There is a $15 charge for this event; $5.00 for wine club members.</strong></p>
<p style="margin: 0.0px 0.0px 0.0px 0.0px; text-align: center; font: 16.0px 'Times New Roman'; min-height: 18.0px;"> </p>
<p style="margin: 0.0px 0.0px 0.0px 0.0px; text-align: center; font: 16.0px 'Times New Roman';"><strong>83 Vallecitos Rd., Livermore, CA 94551</strong></p>
<p style="margin: 0.0px 0.0px 0.0px 0.0px; text-align: center; font: 16.0px 'Times New Roman';"><strong>925-447-5246  info@fenestrawinery.com</strong></p>
LOCATION:83 Vallecitos Rd. Livermore, CA 94551
END:VEVENT
END:VCALENDAR