BEGIN:VCALENDAR
VERSION:2.0
BEGIN:VEVENT
URL:http://www.signaturewines.com/wine-community/events/viewevent/220-complimentary-wine-tasting-at-big-dog-vineyards 
DTSTART:20140104T120000
DTEND:20140104T170000
SUMMARY:Complimentary Wine Tasting At Big Dog Vineyards
DESCRIPTION:<p>Come and make new friends at Big Dog Vineyards this Saturday January 4th 2014 or Sunday January 5th 2014 from 12 pm to 5 pm. The views from this winery estate are spectacular and the wines delicious. This label has the potential to become a cult wine. Come see why.</p>
LOCATION:4545 Felter Road Milpitas, CA  95035 
END:VEVENT
END:VCALENDAR