BEGIN:VCALENDAR
VERSION:2.0
BEGIN:VEVENT
URL:http://www.signaturewines.com/wine-community/events/viewevent/24-tuesday-wine-night-with-cooper-garrod-winery 
DTSTART:20110920T173000
DTEND:20110920T203000
SUMMARY:Tuesday Wine Night with Cooper-Garrod Winery
DESCRIPTION:<p><span style="font-family: Arial, sans-serif; font-size: 13px; color: #000000; line-height: normal;">
<p>Please join Team Viva this Tuesday Wine Night, September 14, 2011, as we welcome Doris Cooper, Marketing Director, Cooper-Garrod Estate Vineyards.</p>
<p>Bill & Doris Cooper and the Garrod family have a Santa Cruz Mountains agricultural history dating back to 1893. Aging orchards were replaced with specifcally targeted wine grape varietals beginning in 1972. Since those early days, the two united families of Cooper and Garrod have established a tradition of growing and making award winning wines of quality and distiction.</p>
<p>We offer the Cooper-Garrod wines for purchase -- as always -- by the bottle, by the glass or half glass, or as a taste.</p>
<p>When ordering a Taste of All or a full bottle, you'll be offered a complimentary appetizer.</p>
<p>See you all this Tuesday Wine Night beginning at 5:30 and continuing until 8:30 p.m.</p>
</span></p>
LOCATION:Los Gatos, CA
END:VEVENT
END:VCALENDAR