BEGIN:VCALENDAR
VERSION:2.0
BEGIN:VEVENT
URL:http://www.signaturewines.com/wine-community/events/viewevent/25-los-gatos-fall-wine-walk-2011 
DTSTART:20110924T140000
DTEND:20110924T180000
SUMMARY:Los Gatos Fall Wine Walk 2011
DESCRIPTION:
LOCATION:Los Gatos, CA
END:VEVENT
END:VCALENDAR