BEGIN:VCALENDAR
VERSION:2.0
BEGIN:VEVENT
URL:http://www.signaturewines.com/wine-community/events/viewevent/28-the-best-of-san-benito-county-food-wine 
DTSTART:20111009T150000
DTEND:20111009T200000
SUMMARY:The Best of San Benito County Food & Wine
DESCRIPTION:<p><span style="font-family: arial, helvetica, sans-serif; font-size: 13px; line-height: normal;"> </span></p>
<div class="date" style="font-weight: bold;"><abbr class="dtstart" style="border-bottom-style: none; border-bottom-width: initial; border-bottom-color: initial;" title="2011-10-09T15:00:00-07:00">Sunday, Oct 9 3:00p</abbr></div>
<div class="venue">at <span><a href="http://events.sfgate.com/hollister-ca/venues/show/1659385-san-juan-oaks-golf-country-club" style="color: #015660 !important; text-decoration: none; outline-width: 0px; outline-style: none; outline-color: initial;">San Juan Oaks Golf & Country Club</a></span>, <span class="adr"><span class="locality">Hollister</span>, <span class="region">CA</span></span></div>
<div id="description" class="text" style="color: #666666; margin-top: 12px; margin-right: 0px; margin-bottom: 6px; margin-left: 0px; display: block;">
<div class="extra" style="margin-bottom: 6px;"><span class="title" style="color: #333333; font-weight: bold;">Price:</span> $125 per person</div>
<div class="extra" style="margin-bottom: 6px;"><span class="title" style="color: #333333; font-weight: bold;">Phone:</span> (831) 630-5899</div>
<div class="extra" style="margin-bottom: 6px;"><strong style="color: #333333;">Age Suitability:</strong> 21 and up</div>
<div class="extra" style="margin-bottom: 6px;"><span class="title" style="color: #333333; font-weight: bold;">Tags:</span> <span id="taglist" style="margin-bottom: 4px;"><a href="http://events.sfgate.com/search?st=event&swhat=wine" style="color: #015660 !important; text-decoration: none; outline-width: 0px; outline-style: none; outline-color: initial;">wine</a>, <a href="http://events.sfgate.com/search?st=event&swhat=food" style="color: #015660 !important; text-decoration: none; outline-width: 0px; outline-style: none; outline-color: initial;">food</a>, <a href="http://events.sfgate.com/search?st=event&swhat=live%20and%20silent%20auction" style="color: #015660 !important; text-decoration: none; outline-width: 0px; outline-style: none; outline-color: initial;">live and silent auction</a>, <a href="http://events.sfgate.com/search?st=event&swhat=benefit%20for%20charity" style="color: #015660 !important; text-decoration: none; outline-width: 0px; outline-style: none; outline-color: initial;">benefit for charity</a></span></div>
<span class="description">
<p>The Best of San Benito County Food & Wine is a 5-Course Food and Wine Pairing at San Juan Oaks Golf Club in Hollister on Sunday, October 9, 2011 beginning at 3pm.It features local wines and each course will be prepared by a locally raised San Benito County Chef, all of which now work for prestigious restaurants. The cost is $125 per person. All proceeds are going to benefit the Emmaus House-the only Domestic Violence Shelter for Women and Children in SBC.Please call 831.630.5899 for more info.</p>
</span></div>
<p> </p>
LOCATION:Hollister, CA
END:VEVENT
END:VCALENDAR