BEGIN:VCALENDAR
VERSION:2.0
BEGIN:VEVENT
URL:http://www.signaturewines.com/wine-community/events/viewevent/29-big-dog-wine-tasting 
DTSTART:20111001T120000
DTEND:20111001T170000
SUMMARY:BIG DOG WINE TASTING
DESCRIPTION:Complimentary Wine Tasting - BIG DOG WINERY

THIS             WEEKEND                    

October             1-2  

from 12 - 5 pm.  

 

Join us this weekend on the patio for wine tasting with your friends  and neighbors. Its a chance relax, enjoy our warm weather, and  also to restock your collection of our award winning wines.  "Kin's  Zin" has been a local favorite recently with the perfect  blend of cherry fruit, spice, and vanilla. Or for a change of pace  try the Cab Franc, also expressing some cherry and subtle  enough to pair with all of your favorite foods.  Bring apicnic to enjoy and say hello to Daisy (we're dog friendly for friendly dogs.)

 
Weekend  Special:   Purchase 5 bottles or more and take home a bottle of Woodside Vineyards Champagne for free.  Take  20% off on a ca
LOCATION:4545 Felter Road Milpitas,CA,95035
END:VEVENT
END:VCALENDAR