BEGIN:VCALENDAR
VERSION:2.0
BEGIN:VEVENT
URL:http://www.signaturewines.com/wine-community/events/viewevent/3-livermore-valley-holidays-in-the-vineyards-saturday-sunday 
DTSTART:20111203T120000
DTEND:20111204T170000
SUMMARY:Livermore Valley Holidays in the Vineyards (Saturday & Sunday)
DESCRIPTION:<p><span style="font-size: medium;"><strong><span style="color: #ff0000;">Livermore Valley Wine Country celebrates the season with a weekend full<span style="color: #008000;"> of </span></span><span style="color: #008000;">holiday cheer!</span></strong></span></p>
<p><span style="font-size: small;"><span style="color: #ff0000;">Holidays  in the Vineyards is an annual wine country tradition where wineries  showcase their tasting rooms with arts and craft vendors, holiday music,  special wines, activities, and more.</span> </span></p>
<p><span style="font-size: small;"><span style="color: #ff0000;">Guests  are encouraged to bring toys to their favorite wineries. All toys will  be donated to the Pleasanton-Livermore Fire Association's <span style="font-weight: bold;">Toys for Tots </span>Program  after the event, directly benefitting children in need thoughout  Alameda and Contra Costa Counties. For more on the Toys for Tots  program, visit<span style="font-size: x-small;"><span style="color: #ff0000;"> </span></span><a href="http://www.toysfortots.org/"><span style="font-size: x-small;"><span style="color: #ff0000;">http://www.toysfortots.org/</span></span></a></span></span></p>
<p><span style="font-size: small;"><span style="color: #ff0000;"><span style="font-size: x-small;"><span style="color: #ff0000;">For more information visit:</span></span></span></span></p>
<p><br />http://www.lvwine.org/event/68/1322888400_1322974800/Holidays_in_the_Vineyards_Saturday_Sunday.html</p>
LOCATION:Participating Livermore Valley Wineries
END:VEVENT
END:VCALENDAR