BEGIN:VCALENDAR
VERSION:2.0
BEGIN:VEVENT
URL:http://www.signaturewines.com/wine-community/events/viewevent/31-gourmet-east-bay-2011 
DTSTART:20111105T190000
DTEND:20111105T230000
SUMMARY:Gourmet East Bay 2011
DESCRIPTION:<h3 style="text-align: left;"><span style="font-family: Verdana,Helvetica,Arial;"><span style="font-size: 12px;">Nearly  thirty of the top restaurants throughout the East Bay will be featuring  premier tastings; wineries from Napa and Livermore valleys will feature  tastes of great wines, premier spirits vendors will be pouring  signature cocktails and more! </span></span><span style="font-family: Verdana,Helvetica,Arial;"><span style="font-size: 12px;">We’re thrilled to announce this year’s entertainment will be provided by Northern California’s premier party band, <a href="http://www.popfictionlive.com/">Pop Fiction</a>. </span></span><span style="font-size: 12px;"><span style="font-family: Geneva,Verdana,Helvetica,Arial;">From  Donna Summer to Journey to Lady Gaga and everything in between, Pop  Fiction delivers non-stop dance hits and packs dance floors wherever  they go. </span><span style="font-family: Verdana,Helvetica,Arial;"> </span></span><br /> <br /> <span style="font-family: Verdana,Helvetica,Arial;"><span style="font-size: 12px;">A</span></span><span style="font-family: Verdana,Helvetica,Arial;"><span style="font-size: 12px;"> raffle and silent auction are a highlight of the evening – with prizes  ranging in value and grandeur – anything from a $1,000 shopping spree at  Broadway Plaza to overnight stays at some of the best hotels in the  East Bay. Proceeds benefit the Food Bank of Contra Costa and Solano and  Project Open Hand – just in time for the holiday season.</span></span></h3>
<h2 style="text-align: center;"></h2>
<h2 style="text-align: center;"><strong><strong>This event will sell out so purchase early!<br /> Tickets are $70 in advance/$80 day of event (if available)</strong></strong></h2>
LOCATION:1275 Broadway Plaza Walnut Creek, CA 94596 (925) 939-7600
END:VEVENT
END:VCALENDAR