BEGIN:VCALENDAR
VERSION:2.0
BEGIN:VEVENT
URL:http://www.signaturewines.com/wine-community/events/viewevent/32-steven-kent-winemaker-dinner 
DTSTART:20111006T190000
DTEND:20111006T220000
SUMMARY:Steven Kent Winemaker Dinner
DESCRIPTION:<p><span class="vevent"><span class="description">
<p>Steven Kent Dinner<br /><br />Course 1: Lola Ghielemetti Vineyard Livermore Valley<br />Grapefruit and Lola infused Apples on Crostini with Rouge et noir Camenbert<br /><br />Course 2: 2007 Merrillie Chardonnay Livermore Valley<br />Chardonnay Poached Pears, Blue Cheese and Pancetta Stuffed Crepes With a Chardonnay, Pear Syrup<br /><br />Course 3: 2007 Steven Kent Cabernet<br />Cabernet Infused Wild Boar Meat Balls on Black Pepper Pasta with a Cabernet Black Cherry Demi<br /><br /> Course 4: Steven Kent Cabernet Port<br />Warm Chocolate Bread Pudding with a Port Crème Anglaise</p>
<p>$80 All Inclusive</p>
</span></span></p>
LOCATION:The Winemakers' Speakeasy. 1152 Valencia St., San Francisco, CA, 94110
END:VEVENT
END:VCALENDAR