BEGIN:VCALENDAR
VERSION:2.0
BEGIN:VEVENT
URL:http://www.signaturewines.com/wine-community/events/viewevent/328-rhone-rangers-2015-san-francisco-seminar-series-a-la-carte 
DTSTART:20150328T100000
DTEND:20150328T130000
SUMMARY: RHONE RANGERS 2015 SAN FRANCISCO SEMINAR SERIES (A LA CARTE)
DESCRIPTION:<p style="margin: 0px; line-height: normal; font-family: Helvetica;"><span style="letter-spacing: 0.0px;">The Rhone Rangers will ride into the San Francisco Bay Area for our annual Celebration of American Rhone Wines, March 27 & 28, 2015.  The Winemaker Dinner on Friday night, March 27 will kick off the weekend, on the San Francisco side of the Bay, at The Golden Gate Club in the Presidio. Then, join us across the bay on Saturday March 28, at the Craneway Pavilion & Conference Center for our seminar series and Grand Tasting. Tickets are on sale now.  All sales are considered final, no refunds.</span></p>
<p style="margin: 0px; line-height: normal; font-family: Helvetica; min-height: 14px;"> </p>
<p> </p>
<p style="margin: 0px; line-height: normal; font-family: Helvetica;"><span style="letter-spacing: 0.0px;">Learn more about your favorite Rhone wines by attending these back-to-back seminars. One ticket admits you to both seminars.  The first seminar is "Rose made from American Rhone Grape Varieties," showcasing the new releases of rose, perfectly timed for your summer ahead.  The second seminar is "American Grown Rhone Varieties, See How They Age" and will include both new releases and library releases from several winemakers, so that you can see how these varieties age over time.   Ticketing options include the Saturday Pass (provides admission to both seminars plus early VIP admission to the Grand Tasting at 1 PM), $150.  Or purchase the <a href="http://www.eventbrite.com/e/rhone-rangers-2015-san-francisco-seminar-series-a-la-carte-tickets-14737956625?aff=es2&rank=2"><span style="text-decoration: underline; letter-spacing: 0.0px;">Seminar A La Carte</span></a>, $75, to attend only the two morning seminars.</span></p>
<p style="margin: 0px; line-height: normal; font-family: Helvetica;"> </p>
<p style="margin: 0px; line-height: normal; font-family: Helvetica;"><span style="letter-spacing: 0.0px;">Rose Seminar:</span></p>
<p style="margin: 0px; line-height: normal; font-family: Helvetica;"><span style="letter-spacing: 0.0px;"> </span></p>
<ol>
<li style="margin: 0px; line-height: normal; font-family: Helvetica;"><span style="letter-spacing: 0.0px;">Bonny Doon</span></li>
<li style="margin: 0px; line-height: normal; font-family: Helvetica;"><span style="letter-spacing: 0.0px;">Sierra Vista</span></li>
<li style="margin: 0px; line-height: normal; font-family: Helvetica;"><span style="letter-spacing: 0.0px;">Field Stone Winery</span></li>
<li style="margin: 0px; line-height: normal; font-family: Helvetica;"><span style="letter-spacing: 0.0px;">Tercero</span></li>
<li style="margin: 0px; line-height: normal; font-family: Helvetica;"><span style="letter-spacing: 0.0px;">Kale</span></li>
<li style="margin: 0px; line-height: normal; font-family: Helvetica;"><span style="letter-spacing: 0.0px;">Cornerstone</span></li>
<li style="margin: 0px; line-height: normal; font-family: Helvetica;"><span style="letter-spacing: 0.0px;">Quady North</span></li>
<li style="margin: 0px; line-height: normal; font-family: Helvetica;"><span style="letter-spacing: 0.0px;">Anglim</span></li>
</ol>
<p style="margin: 0px; line-height: normal; font-family: Helvetica;"><span style="letter-spacing: 0.0px;"> </span></p>
<p style="margin: 0px; line-height: normal; font-family: Helvetica;"><span style="letter-spacing: 0.0px;">Aging Seminar (poured as two flights of 3 presenters/6 wines for each flight)</span></p>
<p style="margin: 0px; line-height: normal; font-family: Helvetica;"><span style="letter-spacing: 0.0px;"> </span></p>
<p style="margin: 0px; line-height: normal; font-family: Helvetica;"> </p>
<ol>
<li style="margin: 0px; line-height: normal; font-family: Helvetica;"><span style="letter-spacing: 0.0px;">Qupe</span></li>
<li style="margin: 0px; line-height: normal; font-family: Helvetica;"><span style="letter-spacing: 0.0px;">Lagier Meredith</span></li>
<li style="margin: 0px; line-height: normal; font-family: Helvetica;"><span style="letter-spacing: 0.0px;">Terre Rouge</span></li>
<li style="margin: 0px; line-height: normal; font-family: Helvetica;"><span style="letter-spacing: 0.0px;">Silver</span></li>
<li style="margin: 0px; line-height: normal; font-family: Helvetica;"><span style="letter-spacing: 0.0px;">Tablas Creek</span></li>
<li style="margin: 0px; line-height: normal; font-family: Helvetica;"><span style="letter-spacing: 0.0px;">Ridge (2002 & 2012 Lytton Estate Petite Sirah) </span></li>
</ol>
LOCATION:The Craneway Conference Center 1414 Harbour Way South  Richmond, CA 94804
END:VEVENT
END:VCALENDAR